BEGIN:VCALENDAR
VERSION:2.0
PRODID:-//Tukios.com/
BEGIN:VEVENT
UID:36e41a17-7623-4b74-8ea2-7ba263824757@www.holcombefisher.com
DTSTAMP:20260425T022508Z
DTSTART:20260508T170000Z
DTEND:20260508T200000Z
SUMMARY:Visitation
DESCRIPTION:
URL:https://www.holcombefisher.com/obituaries/shane-barbiche
LOCATION: 147 Main St  Flemington NJ 08822
GEO:40.5076494;-74.858882
END:VEVENT
END:VCALENDAR