BEGIN:VCALENDAR
VERSION:2.0
PRODID:-//Tukios.com/
BEGIN:VEVENT
UID:477e2cdd-7373-410b-8eda-6b59090dece4@www.holcombefisher.com
DTSTAMP:20260425T022653Z
DTSTART:20260508T200000Z
DTEND:20260508T210000Z
SUMMARY:Celebration of Life
DESCRIPTION:
URL:https://www.holcombefisher.com/obituaries/shane-barbiche
LOCATION: 147 Main St  Flemington NJ 08822
GEO:40.5076494;-74.858882
END:VEVENT
END:VCALENDAR