BEGIN:VCALENDAR
VERSION:2.0
PRODID:-//Tukios.com/
BEGIN:VEVENT
UID:c18b1966-b22f-4767-a563-0ce35cc73748@www.holcombefisher.com
DTSTAMP:20260422T091907Z
DTSTART:20260425T150000Z
DTEND:20260425T160000Z
SUMMARY:Funeral Service
DESCRIPTION:
URL:https://www.holcombefisher.com/obituaries/marie-kubicek
LOCATION: 201 New Jersey 31  Flemington NJ 08822
GEO:40.4847663;-74.8642823
END:VEVENT
END:VCALENDAR