BEGIN:VCALENDAR
VERSION:2.0
PRODID:-//Tukios.com/
BEGIN:VEVENT
UID:6e8c4cb2-55aa-4c13-b4f4-4c805dc13178@www.holcombefisher.com
DTSTAMP:20260422T175232Z
DTSTART:20260427T183000Z
DTEND:20260427T193000Z
SUMMARY:Burial
DESCRIPTION:
URL:https://www.holcombefisher.com/obituaries/lois-stryker
LOCATION: 596 Cherryville Road  Flemington NJ 08822
GEO:40.561769;-74.9040089
END:VEVENT
END:VCALENDAR