BEGIN:VCALENDAR
VERSION:2.0
PRODID:-//Tukios.com/
BEGIN:VEVENT
UID:d67bc561-7702-47a5-9560-ae5ed128ffcc@www.holcombefisher.com
DTSTAMP:20260422T175138Z
DTSTART:20260427T170000Z
DTEND:20260427T180000Z
SUMMARY:Funeral Service
DESCRIPTION:
URL:https://www.holcombefisher.com/obituaries/lois-stryker
LOCATION: 594 Cherryville Road  Flemington NJ 08822
GEO:40.5620693;-74.903848
END:VEVENT
END:VCALENDAR