BEGIN:VCALENDAR
VERSION:2.0
PRODID:-//Tukios.com/
BEGIN:VEVENT
UID:fcff27fe-82fe-4262-9a46-c8e524d9f709@www.holcombefisher.com
DTSTAMP:20260422T175631Z
DTSTART:20260426T210000Z
DTEND:20260426T230000Z
SUMMARY:Visitation
DESCRIPTION:
URL:https://www.holcombefisher.com/obituaries/lois-stryker
LOCATION: 147 Main St  Flemington NJ 08822
GEO:40.5076494;-74.858882
END:VEVENT
END:VCALENDAR