BEGIN:VCALENDAR
VERSION:2.0
PRODID:-//Tukios.com/
BEGIN:VEVENT
UID:6d963f5d-6cc2-4ce2-b21a-b839c30ecea1@www.holcombefisher.com
DTSTAMP:20260422T211226Z
DTSTART:20260427T153000Z
DTEND:20260427T163000Z
SUMMARY:Funeral Service
DESCRIPTION:Officiated by Reverend Nicholas C. Hatch, Pastor
URL:https://www.holcombefisher.com/obituaries/howard-thomas
LOCATION:Alexandria First Presbyterian Church 141 Little York Mount 
	Pleasant Road  Milford NJ 08848
GEO:40.5831289;-75.0544069
END:VEVENT
END:VCALENDAR