BEGIN:VCALENDAR
VERSION:2.0
PRODID:-//Tukios.com/
BEGIN:VEVENT
UID:d47a7c68-1dcc-4469-b6d7-1e1668beda97@www.holcombefisher.com
DTSTAMP:20260422T211348Z
DTSTART:20260427T133000Z
DTEND:20260427T153000Z
SUMMARY:Visitation
DESCRIPTION:
URL:https://www.holcombefisher.com/obituaries/howard-thomas
LOCATION:Alexandria First Presbyterian Church 141 Little York Mount 
	Pleasant Road  Milford NJ 08848
GEO:40.5831289;-75.0544069
END:VEVENT
END:VCALENDAR